BEGIN:VCALENDAR
VERSION:2.0
PRODID:-//Knowledge Portal ECA-NA - ECPv6.15.4//NONSGML v1.0//EN
CALSCALE:GREGORIAN
METHOD:PUBLISH
X-ORIGINAL-URL:https://knowledgehub-sro-na.uneca.org
X-WR-CALDESC:Events for Knowledge Portal ECA-NA
REFRESH-INTERVAL;VALUE=DURATION:PT1H
X-Robots-Tag:noindex
X-PUBLISHED-TTL:PT1H
BEGIN:VTIMEZONE
TZID:Europe/Paris
BEGIN:DAYLIGHT
TZOFFSETFROM:+0100
TZOFFSETTO:+0200
TZNAME:CEST
DTSTART:20230326T010000
END:DAYLIGHT
BEGIN:STANDARD
TZOFFSETFROM:+0200
TZOFFSETTO:+0100
TZNAME:CET
DTSTART:20231029T010000
END:STANDARD
END:VTIMEZONE
BEGIN:VEVENT
DTSTART;TZID=Europe/Paris:20230606T070000
DTEND;TZID=Europe/Paris:20230607T150000
DTSTAMP:20260424T143845
CREATED:20230511T143017Z
LAST-MODIFIED:20230601T143326Z
UID:10000018-1686034800-1686150000@knowledgehub-sro-na.uneca.org
SUMMARY:Workshop on Migration Statistics and the Recognition of Migrants’ Skills in Zimbabwe (On Invitation)
DESCRIPTION:Workshop on “Migration Statistics and the Recognition of Migrants’ Skills in Zimbabwe”\, 6-7 June 2023\, Harare\, Zimbabwe. \nEconomic Commission for Africa in collaboration with International Labour Organization organize a workshop to discuss the findings and recommendations of a study carried out to assess the availability of migration statistics in Zimbabwe and to also deliver a capacity building training sessions for stakeholders on the production of labour migration statistics and recognition of migrants’ skills. \nThe overall objectives of the workshop are:  \n\nTo present and discuss the final report on Migration Statistics in Zimbabwe prepared by UNECA in consultation with the technical working group\,\nTo share experiences on labour migration statistics and recognition of migrants’ skills with Zimbabwean stakeholders from the private sector\, NGOs\, academia\, and international organizations\,\nTo share experiences from other African countries on migration governance\,\nTo conduct capacity building sessions on labour migration statistics to improve the collection and management of migration data in Zimbabwe among different sectors.\n\n \n   Concept Note & Programme of WorkSize: 4 Mb
URL:https://knowledgehub-sro-na.uneca.org/event/workshop-on-migration-statistics-and-the-recognition-of-migrants-skills-in-zimbabwe/
LOCATION:Monomotapa Harare Hotel\, 54 Park Ln\, Harare\, Zimbabwe
ATTACH;FMTTYPE=image/png:https://knowledgehub-sro-na.uneca.org/wp-content/uploads/2023/05/Atelier-Final-Mise-en-place-dun-mecanisme-national-de-reconnaissance-des-competences-des-travailleurs-migrants.png
ORGANIZER;CN="Samia Hamouda":MAILTO:samia.hamouda@un.org
END:VEVENT
END:VCALENDAR